BEGIN:VCALENDAR
VERSION:2.0
PRODID:SchoolNow
CALSCALE:GREGORIAN
BEGIN:VEVENT
UID:d972c074-8f98-11f0-bcd3-0e48ac19f595
DTSTAMP:20251216T154146Z
SUMMARY:FB vs Bigfork
LOCATION:PHS-1-Stadium (5000)
URL;VALUE=URI:https://www.polson.k12.mt.us/polson-high-school/athletics/cal
 endar/8611998/fb-vs-bigfork
DTSTART:20251011T010000Z
DTEND:20251011T040000Z
END:VEVENT
END:VCALENDAR
