BEGIN:VCALENDAR
VERSION:2.0
PRODID:SchoolNow
CALSCALE:GREGORIAN
BEGIN:VEVENT
UID:d972bf7a-8f98-11f0-a9b3-0e48ac19f595
DTSTAMP:20251216T154146Z
SUMMARY:XC: Mission Shadow Duels
LOCATION:Silver Fox Golf Course\, 52000 US-93\, Pablo\, MT 59855\, USA
URL;VALUE=URI:https://www.polson.k12.mt.us/polson-high-school/athletics/cal
 endar/8611997/xc-mission-shadow-duels
DTSTART:20251011T160000Z
DTEND:20251011T220000Z
END:VEVENT
END:VCALENDAR
