BEGIN:VCALENDAR
VERSION:2.0
PRODID:SchoolNow
CALSCALE:GREGORIAN
BEGIN:VEVENT
UID:d972be80-8f98-11f0-8cd1-0e48ac19f595
DTSTAMP:20251216T154146Z
SUMMARY:Soc @ Corvallis
LOCATION:Corvallis High School\, 1045 Main St\, Corvallis\, MT 59828\, USA
URL;VALUE=URI:https://www.polson.k12.mt.us/polson-high-school/athletics/cal
 endar/8611996/soc-corvallis
DTSTART:20251009T210000Z
DTEND:20251009T230000Z
END:VEVENT
END:VCALENDAR
