BEGIN:VCALENDAR
VERSION:2.0
PRODID:SchoolNow
CALSCALE:GREGORIAN
BEGIN:VEVENT
UID:d972bc46-8f98-11f0-bc75-0e48ac19f595
DTSTAMP:20251216T154145Z
SUMMARY:Soc vs Stevensville
LOCATION:PHS-1-Stadium (5000)
URL;VALUE=URI:https://www.polson.k12.mt.us/polson-high-school/athletics/cal
 endar/8611994/soc-vs-stevensville
DTSTART:20251004T180000Z
DTEND:20251005T000000Z
END:VEVENT
END:VCALENDAR
