BEGIN:VCALENDAR
VERSION:2.0
PRODID:SchoolNow
CALSCALE:GREGORIAN
BEGIN:VEVENT
UID:d7c76ffc-4283-11f0-8042-0ed512cb3007
DTSTAMP:20251216T154146Z
SUMMARY:Soc vs Frenchtown
LOCATION:PHS-1-Stadium (5000)
URL;VALUE=URI:https://www.polson.k12.mt.us/polson-high-school/athletics/cal
 endar/8259773/soc-vs-frenchtown
DTSTART:20251007T230000Z
DTEND:20251008T030000Z
END:VEVENT
END:VCALENDAR
