BEGIN:VCALENDAR
VERSION:2.0
PRODID:SchoolNow
CALSCALE:GREGORIAN
BEGIN:VEVENT
UID:d95c889e-4250-11f0-8c8b-0a58a9feac02
DTSTAMP:20251216T154146Z
SUMMARY:JV FB @ Whitefish
LOCATION:Whitefish High School\, 1143 4th St\, Whitefish\, MT 59937\, USA
URL;VALUE=URI:https://www.polson.k12.mt.us/polson-high-school/athletics/cal
 endar/8258545/jv-fb-whitefish
DTSTART:20251006T230000Z
DTEND:20251007T013000Z
END:VEVENT
END:VCALENDAR
