BEGIN:VCALENDAR
VERSION:2.0
PRODID:SchoolNow
CALSCALE:GREGORIAN
BEGIN:VEVENT
UID:d95c87b8-4250-11f0-97d9-0a58a9feac02
DTSTAMP:20251216T154145Z
SUMMARY:Golf State Practice RD
LOCATION:Sidney Country Club\, 2250 W Holly St\, Sidney\, MT 59270\, USA
URL;VALUE=URI:https://www.polson.k12.mt.us/polson-high-school/athletics/cal
 endar/8258544/golf-state-practice-rd
DTSTART;VALUE=DATE:20251002
DTEND;VALUE=DATE:20251003
END:VEVENT
END:VCALENDAR
