BEGIN:VCALENDAR
VERSION:2.0
PRODID:SchoolNow
CALSCALE:GREGORIAN
BEGIN:VEVENT
UID:d95c86d2-4250-11f0-9613-0a58a9feac02
DTSTAMP:20251216T154145Z
SUMMARY:Golf at State
LOCATION:Sidney Country Club\, 2250 W Holly St\, Sidney\, MT 59270\, USA
URL;VALUE=URI:https://www.polson.k12.mt.us/polson-high-school/athletics/cal
 endar/8258543/golf-at-state
DTSTART;VALUE=DATE:20251003
DTEND;VALUE=DATE:20251005
END:VEVENT
END:VCALENDAR
