BEGIN:VCALENDAR
VERSION:2.0
PRODID:SchoolNow
CALSCALE:GREGORIAN
BEGIN:VEVENT
UID:d95c85e2-4250-11f0-a5c5-0a58a9feac02
DTSTAMP:20251216T154145Z
SUMMARY:Varsity FB vs Whitefish
LOCATION:PHS-1-Stadium (5000)
URL;VALUE=URI:https://www.polson.k12.mt.us/polson-high-school/athletics/cal
 endar/8258542/varsity-fb-vs-whitefish
DTSTART:20251004T010000Z
DTEND:20251004T033000Z
END:VEVENT
END:VCALENDAR
