BEGIN:VCALENDAR
VERSION:2.0
PRODID:SchoolNow
CALSCALE:GREGORIAN
BEGIN:VEVENT
UID:d95c8506-4250-11f0-b3cf-0a58a9feac02
DTSTAMP:20251216T154146Z
SUMMARY:XC @ Daly Mansion Invite
URL;VALUE=URI:https://www.polson.k12.mt.us/polson-high-school/athletics/cal
 endar/8258541/xc-daly-mansion-invite
DTSTART:20251002T220000Z
DTEND:20251003T010000Z
END:VEVENT
END:VCALENDAR
