BEGIN:VCALENDAR
VERSION:2.0
PRODID:SchoolNow
CALSCALE:GREGORIAN
BEGIN:VEVENT
UID:d95c8308-4250-11f0-bfd0-0a58a9feac02
DTSTAMP:20251216T154146Z
SUMMARY:S&D Fist Practice
LOCATION:Polson High School\, 1712 2nd St W\, Polson\, MT 59860\, USA
URL;VALUE=URI:https://www.polson.k12.mt.us/polson-high-school/athletics/cal
 endar/8258539/s-d-fist-practice
DTSTART;VALUE=DATE:20251001
DTEND;VALUE=DATE:20251002
END:VEVENT
END:VCALENDAR
