BEGIN:VCALENDAR
VERSION:2.0
PRODID:SchoolNow
CALSCALE:GREGORIAN
BEGIN:VEVENT
UID:dcb6502c-41b7-11f0-9784-0a58a9feac02
DTSTAMP:20251216T154146Z
SUMMARY:Speech and Debate Parent Meeting
LOCATION:PHS-1-Auditiorium (750)
URL;VALUE=URI:https://www.polson.k12.mt.us/polson-high-school/athletics/cal
 endar/8254742/speech-and-debate-parent-meeting
DTSTART:20251001T223000Z
DTEND:20251001T230000Z
END:VEVENT
END:VCALENDAR
