BEGIN:VCALENDAR
VERSION:2.0
PRODID:SchoolNow
CALSCALE:GREGORIAN
BEGIN:VEVENT
UID:992a48ee-1fa8-11f0-ac88-0affd22cdaed
DTSTAMP:20251216T154146Z
SUMMARY:14C District Basketball Tournament
LOCATION:LIND-1-Linderman Gym (1600)
URL;VALUE=URI:https://www.polson.k12.mt.us/polson-high-school/athletics/cal
 endar/7984812/14c-district-basketball-tournament
DTSTART:20260219T070000Z
DTEND:20260222T070000Z
END:VEVENT
END:VCALENDAR
