BEGIN:VCALENDAR
VERSION:2.0
PRODID:SchoolNow
CALSCALE:GREGORIAN
BEGIN:VEVENT
UID:8b202aea-1ebc-11ef-963d-0e7e59b30aa1
DTSTAMP:20251216T154145Z
SUMMARY:S&D @ State
LOCATION:Corvallis High School\, 1045 Main St\, Corvallis\, MT 59828\, USA
URL;VALUE=URI:https://www.polson.k12.mt.us/polson-high-school/athletics/cal
 endar/6052524/s-d-state
DTSTART;VALUE=DATE:20260130
DTEND;VALUE=DATE:20260201
END:VEVENT
END:VCALENDAR
