BEGIN:VCALENDAR
VERSION:2.0
PRODID:SchoolNow
CALSCALE:GREGORIAN
BEGIN:VEVENT
UID:d87850bc-7d78-11f0-8110-0a58a9feac02
DTSTAMP:20251216T154149Z
SUMMARY:PSD #23 School Board Meeting
LOCATION:Polson School District Office
URL;VALUE=URI:https://www.polson.k12.mt.us/cherry-valley-school/calendar/85
 23735/psd-23-school-board-meeting
DTSTART:20251209T003000Z
DTEND:20251209T013000Z
END:VEVENT
END:VCALENDAR
