BEGIN:VCALENDAR
VERSION:2.0
PRODID:SchoolNow
CALSCALE:GREGORIAN
BEGIN:VEVENT
UID:d777d818-7d78-11f0-afe3-0a58a9feac02
DTSTAMP:20251216T154144Z
SUMMARY:PSD #23 School Board Meeting
LOCATION:Polson School District Office
URL;VALUE=URI:https://www.polson.k12.mt.us/calendar/8523715/psd-23-school-b
 oard-meeting
DTSTART:20260210T003000Z
DTEND:20260210T013000Z
END:VEVENT
END:VCALENDAR
